BEGIN:VCALENDAR
VERSION:2.0
PRODID:-//TC Hohenstein Witten e.V. - ECPv5.2.1//NONSGML v1.0//EN
CALSCALE:GREGORIAN
METHOD:PUBLISH
X-WR-CALNAME:TC Hohenstein Witten e.V.
X-ORIGINAL-URL:https://www.tchohenstein.de
X-WR-CALDESC:Veranstaltungen für TC Hohenstein Witten e.V.
BEGIN:VTIMEZONE
TZID:Europe/Berlin
BEGIN:DAYLIGHT
TZOFFSETFROM:+0100
TZOFFSETTO:+0200
TZNAME:CEST
DTSTART:20180325T010000
END:DAYLIGHT
BEGIN:STANDARD
TZOFFSETFROM:+0200
TZOFFSETTO:+0100
TZNAME:CET
DTSTART:20181028T010000
END:STANDARD
END:VTIMEZONE
BEGIN:VEVENT
DTSTART;TZID=Europe/Berlin:20180217T140000
DTEND;TZID=Europe/Berlin:20180217T170000
DTSTAMP:20260420T194939
CREATED:20180205T050035Z
LAST-MODIFIED:20180318T202638Z
UID:3347-1518876000-1518886800@www.tchohenstein.de
SUMMARY:Jugendversammlung 2018 | 17.02.
DESCRIPTION:2. Jugendversammlung mit 3 Hauptthemen: \n\nFestlegung der Spielerreihenfolge in den Jugendmannschaften\nVorstellung der Projekte 2018\nWahl des Jugendausschuss
URL:https://www.tchohenstein.de/event/jugendversammlung-2018-17-02/
LOCATION:Gastronomie\, Hohenstein 6a\, Witten\, Nordrhein-Westfalen\, 58454\, Deutschland
CATEGORIES:Club-Event
ORGANIZER;CN="TC%20Hohenstein%20Witten%20e.V.":MAILTO:post@tchohenstein.de
END:VEVENT
END:VCALENDAR