BEGIN:VCALENDAR
VERSION:2.0
PRODID:-//TC Hohenstein Witten e.V. - ECPv5.2.1//NONSGML v1.0//EN
CALSCALE:GREGORIAN
METHOD:PUBLISH
X-WR-CALNAME:TC Hohenstein Witten e.V.
X-ORIGINAL-URL:https://www.tchohenstein.de
X-WR-CALDESC:Veranstaltungen für TC Hohenstein Witten e.V.
BEGIN:VTIMEZONE
TZID:Europe/Berlin
BEGIN:DAYLIGHT
TZOFFSETFROM:+0100
TZOFFSETTO:+0200
TZNAME:CEST
DTSTART:20190331T010000
END:DAYLIGHT
BEGIN:STANDARD
TZOFFSETFROM:+0200
TZOFFSETTO:+0100
TZNAME:CET
DTSTART:20191027T010000
END:STANDARD
END:VTIMEZONE
BEGIN:VEVENT
DTSTART;TZID=Europe/Berlin:20190316T100000
DTEND;TZID=Europe/Berlin:20190316T130000
DTSTAMP:20260420T105123
CREATED:20190301T045716Z
LAST-MODIFIED:20190315T200436Z
UID:3572-1552730400-1552741200@www.tchohenstein.de
SUMMARY:Frühjahrsputz No. 1
DESCRIPTION:Diese Veranstaltung fällt aus! Warum? Bei dem derzeitigen Dauerregen wollen wir nicht putzen – du etwa?
URL:https://www.tchohenstein.de/event/fruehjahrsputz-no-1/
LOCATION:Platzanlage\, Hohenstein 6a\, Witten\, Nordrhein-Westfalen\, 58453\, Deutschland
CATEGORIES:Club-Event
ORGANIZER;CN="TC%20Hohenstein%20Witten%20e.V.":MAILTO:post@tchohenstein.de
END:VEVENT
END:VCALENDAR